BEGIN:VCALENDAR
VERSION:2.0
PRODID:https://www.kufer.de/kuferweb / DE
METHOD:PUBLISH
CALSCALE:GREGORIAN
X-WR-TIMEZONE:Europe/Berlin
BEGIN:VTIMEZONE
TZID:Europe/Berlin
X-LIC-LOCATION:Europe/Berlin
BEGIN:DAYLIGHT
TZOFFSETFROM:+0100
TZOFFSETTO:+0200
TZNAME:CEST
DTSTART:19700329T020000
RRULE:FREQ=YEARLY;INTERVAL=1;BYDAY=-1SU;BYMONTH=3
END:DAYLIGHT
BEGIN:STANDARD
TZOFFSETFROM:+0200
TZOFFSETTO:+0100
TZNAME:CET
DTSTART:19701025T030000
RRULE:FREQ=YEARLY;INTERVAL=1;BYDAY=-1SU;BYMONTH=10
END:STANDARD
END:VTIMEZONE
BEGIN:VEVENT
DTSTAMP:20260424T145617
DTSTART;TZID=Europe/Berlin:20260416T161500
DTEND;TZID=Europe/Berlin:20260416T170000
UID:262AG-310-20260416T161500@FABIMÜNSTER EV. FAMILIENBILDUNGSSTÄTTE
SUMMARY:Musik-Spaß (1,5 bis 3,5 Jahre) (262AG-310) 
LOCATION:Kleine Riesen, Familienzentrum
END:VEVENT
BEGIN:VEVENT
DTSTAMP:20260424T145617
DTSTART;TZID=Europe/Berlin:20260423T161500
DTEND;TZID=Europe/Berlin:20260423T170000
UID:262AG-310-20260423T161500@FABIMÜNSTER EV. FAMILIENBILDUNGSSTÄTTE
SUMMARY:Musik-Spaß (1,5 bis 3,5 Jahre) (262AG-310) 
LOCATION:Kleine Riesen, Familienzentrum
END:VEVENT
BEGIN:VEVENT
DTSTAMP:20260424T145617
DTSTART;TZID=Europe/Berlin:20260430T161500
DTEND;TZID=Europe/Berlin:20260430T170000
UID:262AG-310-20260430T161500@FABIMÜNSTER EV. FAMILIENBILDUNGSSTÄTTE
SUMMARY:Musik-Spaß (1,5 bis 3,5 Jahre) (262AG-310) 
LOCATION:Kleine Riesen, Familienzentrum
END:VEVENT
BEGIN:VEVENT
DTSTAMP:20260424T145617
DTSTART;TZID=Europe/Berlin:20260507T161500
DTEND;TZID=Europe/Berlin:20260507T170000
UID:262AG-310-20260507T161500@FABIMÜNSTER EV. FAMILIENBILDUNGSSTÄTTE
SUMMARY:Musik-Spaß (1,5 bis 3,5 Jahre) (262AG-310) 
LOCATION:Kleine Riesen, Familienzentrum
END:VEVENT
BEGIN:VEVENT
DTSTAMP:20260424T145617
DTSTART;TZID=Europe/Berlin:20260521T161500
DTEND;TZID=Europe/Berlin:20260521T170000
UID:262AG-310-20260521T161500@FABIMÜNSTER EV. FAMILIENBILDUNGSSTÄTTE
SUMMARY:Musik-Spaß (1,5 bis 3,5 Jahre) (262AG-310) 
LOCATION:Kleine Riesen, Familienzentrum
END:VEVENT
BEGIN:VEVENT
DTSTAMP:20260424T145617
DTSTART;TZID=Europe/Berlin:20260528T161500
DTEND;TZID=Europe/Berlin:20260528T170000
UID:262AG-310-20260528T161500@FABIMÜNSTER EV. FAMILIENBILDUNGSSTÄTTE
SUMMARY:Musik-Spaß (1,5 bis 3,5 Jahre) (262AG-310) 
LOCATION:Kleine Riesen, Familienzentrum
END:VEVENT
BEGIN:VEVENT
DTSTAMP:20260424T145617
DTSTART;TZID=Europe/Berlin:20260611T161500
DTEND;TZID=Europe/Berlin:20260611T170000
UID:262AG-310-20260611T161500@FABIMÜNSTER EV. FAMILIENBILDUNGSSTÄTTE
SUMMARY:Musik-Spaß (1,5 bis 3,5 Jahre) (262AG-310) 
LOCATION:Kleine Riesen, Familienzentrum
END:VEVENT
BEGIN:VEVENT
DTSTAMP:20260424T145617
DTSTART;TZID=Europe/Berlin:20260618T161500
DTEND;TZID=Europe/Berlin:20260618T170000
UID:262AG-310-20260618T161500@FABIMÜNSTER EV. FAMILIENBILDUNGSSTÄTTE
SUMMARY:Musik-Spaß (1,5 bis 3,5 Jahre) (262AG-310) 
LOCATION:Kleine Riesen, Familienzentrum
END:VEVENT
BEGIN:VEVENT
DTSTAMP:20260424T145617
DTSTART;TZID=Europe/Berlin:20260625T161500
DTEND;TZID=Europe/Berlin:20260625T170000
UID:262AG-310-20260625T161500@FABIMÜNSTER EV. FAMILIENBILDUNGSSTÄTTE
SUMMARY:Musik-Spaß (1,5 bis 3,5 Jahre) (262AG-310) 
LOCATION:Kleine Riesen, Familienzentrum
END:VEVENT
BEGIN:VEVENT
DTSTAMP:20260424T145617
DTSTART;TZID=Europe/Berlin:20260702T161500
DTEND;TZID=Europe/Berlin:20260702T170000
UID:262AG-310-20260702T161500@FABIMÜNSTER EV. FAMILIENBILDUNGSSTÄTTE
SUMMARY:Musik-Spaß (1,5 bis 3,5 Jahre) (262AG-310) 
LOCATION:Kleine Riesen, Familienzentrum
END:VEVENT
BEGIN:VEVENT
DTSTAMP:20260424T145617
DTSTART;TZID=Europe/Berlin:20260709T161500
DTEND;TZID=Europe/Berlin:20260709T170000
UID:262AG-310-20260709T161500@FABIMÜNSTER EV. FAMILIENBILDUNGSSTÄTTE
SUMMARY:Musik-Spaß (1,5 bis 3,5 Jahre) (262AG-310) 
LOCATION:Kleine Riesen, Familienzentrum
END:VEVENT
BEGIN:VEVENT
DTSTAMP:20260424T145617
DTSTART;TZID=Europe/Berlin:20260716T161500
DTEND;TZID=Europe/Berlin:20260716T170000
UID:262AG-310-20260716T161500@FABIMÜNSTER EV. FAMILIENBILDUNGSSTÄTTE
SUMMARY:Musik-Spaß (1,5 bis 3,5 Jahre) (262AG-310) 
LOCATION:Kleine Riesen, Familienzentrum
END:VEVENT
END:VCALENDAR