BEGIN:VCALENDAR
VERSION:2.0
PRODID:https://www.kufer.de/kuferweb / DE
METHOD:PUBLISH
CALSCALE:GREGORIAN
X-WR-TIMEZONE:Europe/Berlin
BEGIN:VTIMEZONE
TZID:Europe/Berlin
X-LIC-LOCATION:Europe/Berlin
BEGIN:DAYLIGHT
TZOFFSETFROM:+0100
TZOFFSETTO:+0200
TZNAME:CEST
DTSTART:19700329T020000
RRULE:FREQ=YEARLY;INTERVAL=1;BYDAY=-1SU;BYMONTH=3
END:DAYLIGHT
BEGIN:STANDARD
TZOFFSETFROM:+0200
TZOFFSETTO:+0100
TZNAME:CET
DTSTART:19701025T030000
RRULE:FREQ=YEARLY;INTERVAL=1;BYDAY=-1SU;BYMONTH=10
END:STANDARD
END:VTIMEZONE
BEGIN:VEVENT
DTSTAMP:20260424T070658
DTSTART;TZID=Europe/Berlin:20260121T091500
DTEND;TZID=Europe/Berlin:20260121T100000
UID:261AS-705-20260121T091500@FABIMÜNSTER EV. FAMILIENBILDUNGSSTÄTTE
SUMMARY:Sanfte Gymnastik für Frauen ab 60 Jahren (261AS-705) 
LOCATION:Beratungs- und BildungsCentrum - Multifunktionsraum, Alter Steinweg 34, 48143 Münster
END:VEVENT
BEGIN:VEVENT
DTSTAMP:20260424T070658
DTSTART;TZID=Europe/Berlin:20260128T091500
DTEND;TZID=Europe/Berlin:20260128T100000
UID:261AS-705-20260128T091500@FABIMÜNSTER EV. FAMILIENBILDUNGSSTÄTTE
SUMMARY:Sanfte Gymnastik für Frauen ab 60 Jahren (261AS-705) 
LOCATION:Beratungs- und BildungsCentrum - Multifunktionsraum, Alter Steinweg 34, 48143 Münster
END:VEVENT
BEGIN:VEVENT
DTSTAMP:20260424T070658
DTSTART;TZID=Europe/Berlin:20260204T091500
DTEND;TZID=Europe/Berlin:20260204T100000
UID:261AS-705-20260204T091500@FABIMÜNSTER EV. FAMILIENBILDUNGSSTÄTTE
SUMMARY:Sanfte Gymnastik für Frauen ab 60 Jahren (261AS-705) 
LOCATION:Beratungs- und BildungsCentrum - Multifunktionsraum, Alter Steinweg 34, 48143 Münster
END:VEVENT
BEGIN:VEVENT
DTSTAMP:20260424T070658
DTSTART;TZID=Europe/Berlin:20260218T091500
DTEND;TZID=Europe/Berlin:20260218T100000
UID:261AS-705-20260218T091500@FABIMÜNSTER EV. FAMILIENBILDUNGSSTÄTTE
SUMMARY:Sanfte Gymnastik für Frauen ab 60 Jahren (261AS-705) 
LOCATION:Beratungs- und BildungsCentrum - Multifunktionsraum, Alter Steinweg 34, 48143 Münster
END:VEVENT
BEGIN:VEVENT
DTSTAMP:20260424T070658
DTSTART;TZID=Europe/Berlin:20260225T091500
DTEND;TZID=Europe/Berlin:20260225T100000
UID:261AS-705-20260225T091500@FABIMÜNSTER EV. FAMILIENBILDUNGSSTÄTTE
SUMMARY:Sanfte Gymnastik für Frauen ab 60 Jahren (261AS-705) 
LOCATION:Beratungs- und BildungsCentrum - Multifunktionsraum, Alter Steinweg 34, 48143 Münster
END:VEVENT
BEGIN:VEVENT
DTSTAMP:20260424T070658
DTSTART;TZID=Europe/Berlin:20260304T091500
DTEND;TZID=Europe/Berlin:20260304T100000
UID:261AS-705-20260304T091500@FABIMÜNSTER EV. FAMILIENBILDUNGSSTÄTTE
SUMMARY:Sanfte Gymnastik für Frauen ab 60 Jahren (261AS-705) 
LOCATION:Beratungs- und BildungsCentrum - Multifunktionsraum, Alter Steinweg 34, 48143 Münster
END:VEVENT
BEGIN:VEVENT
DTSTAMP:20260424T070658
DTSTART;TZID=Europe/Berlin:20260311T091500
DTEND;TZID=Europe/Berlin:20260311T100000
UID:261AS-705-20260311T091500@FABIMÜNSTER EV. FAMILIENBILDUNGSSTÄTTE
SUMMARY:Sanfte Gymnastik für Frauen ab 60 Jahren (261AS-705) 
LOCATION:Beratungs- und BildungsCentrum - Multifunktionsraum, Alter Steinweg 34, 48143 Münster
END:VEVENT
BEGIN:VEVENT
DTSTAMP:20260424T070658
DTSTART;TZID=Europe/Berlin:20260318T091500
DTEND;TZID=Europe/Berlin:20260318T100000
UID:261AS-705-20260318T091500@FABIMÜNSTER EV. FAMILIENBILDUNGSSTÄTTE
SUMMARY:Sanfte Gymnastik für Frauen ab 60 Jahren (261AS-705) 
LOCATION:Beratungs- und BildungsCentrum - Multifunktionsraum, Alter Steinweg 34, 48143 Münster
END:VEVENT
BEGIN:VEVENT
DTSTAMP:20260424T070658
DTSTART;TZID=Europe/Berlin:20260325T091500
DTEND;TZID=Europe/Berlin:20260325T100000
UID:261AS-705-20260325T091500@FABIMÜNSTER EV. FAMILIENBILDUNGSSTÄTTE
SUMMARY:Sanfte Gymnastik für Frauen ab 60 Jahren (261AS-705) 
LOCATION:Beratungs- und BildungsCentrum - Multifunktionsraum, Alter Steinweg 34, 48143 Münster
END:VEVENT
BEGIN:VEVENT
DTSTAMP:20260424T070658
DTSTART;TZID=Europe/Berlin:20260415T091500
DTEND;TZID=Europe/Berlin:20260415T100000
UID:261AS-705-20260415T091500@FABIMÜNSTER EV. FAMILIENBILDUNGSSTÄTTE
SUMMARY:Sanfte Gymnastik für Frauen ab 60 Jahren (261AS-705) 
LOCATION:Beratungs- und BildungsCentrum - Multifunktionsraum, Alter Steinweg 34, 48143 Münster
END:VEVENT
BEGIN:VEVENT
DTSTAMP:20260424T070658
DTSTART;TZID=Europe/Berlin:20260422T091500
DTEND;TZID=Europe/Berlin:20260422T100000
UID:261AS-705-20260422T091500@FABIMÜNSTER EV. FAMILIENBILDUNGSSTÄTTE
SUMMARY:Sanfte Gymnastik für Frauen ab 60 Jahren (261AS-705) 
LOCATION:Beratungs- und BildungsCentrum - Multifunktionsraum, Alter Steinweg 34, 48143 Münster
END:VEVENT
BEGIN:VEVENT
DTSTAMP:20260424T070658
DTSTART;TZID=Europe/Berlin:20260429T091500
DTEND;TZID=Europe/Berlin:20260429T100000
UID:261AS-705-20260429T091500@FABIMÜNSTER EV. FAMILIENBILDUNGSSTÄTTE
SUMMARY:Sanfte Gymnastik für Frauen ab 60 Jahren (261AS-705) 
LOCATION:Beratungs- und BildungsCentrum - Multifunktionsraum, Alter Steinweg 34, 48143 Münster
END:VEVENT
BEGIN:VEVENT
DTSTAMP:20260424T070658
DTSTART;TZID=Europe/Berlin:20260506T091500
DTEND;TZID=Europe/Berlin:20260506T100000
UID:261AS-705-20260506T091500@FABIMÜNSTER EV. FAMILIENBILDUNGSSTÄTTE
SUMMARY:Sanfte Gymnastik für Frauen ab 60 Jahren (261AS-705) 
LOCATION:Beratungs- und BildungsCentrum - Multifunktionsraum, Alter Steinweg 34, 48143 Münster
END:VEVENT
BEGIN:VEVENT
DTSTAMP:20260424T070658
DTSTART;TZID=Europe/Berlin:20260520T091500
DTEND;TZID=Europe/Berlin:20260520T100000
UID:261AS-705-20260520T091500@FABIMÜNSTER EV. FAMILIENBILDUNGSSTÄTTE
SUMMARY:Sanfte Gymnastik für Frauen ab 60 Jahren (261AS-705) 
LOCATION:Beratungs- und BildungsCentrum - Multifunktionsraum, Alter Steinweg 34, 48143 Münster
END:VEVENT
BEGIN:VEVENT
DTSTAMP:20260424T070658
DTSTART;TZID=Europe/Berlin:20260527T091500
DTEND;TZID=Europe/Berlin:20260527T100000
UID:261AS-705-20260527T091500@FABIMÜNSTER EV. FAMILIENBILDUNGSSTÄTTE
SUMMARY:Sanfte Gymnastik für Frauen ab 60 Jahren (261AS-705) 
LOCATION:Beratungs- und BildungsCentrum - Multifunktionsraum, Alter Steinweg 34, 48143 Münster
END:VEVENT
BEGIN:VEVENT
DTSTAMP:20260424T070658
DTSTART;TZID=Europe/Berlin:20260603T091500
DTEND;TZID=Europe/Berlin:20260603T100000
UID:261AS-705-20260603T091500@FABIMÜNSTER EV. FAMILIENBILDUNGSSTÄTTE
SUMMARY:Sanfte Gymnastik für Frauen ab 60 Jahren (261AS-705) 
LOCATION:Beratungs- und BildungsCentrum - Multifunktionsraum, Alter Steinweg 34, 48143 Münster
END:VEVENT
BEGIN:VEVENT
DTSTAMP:20260424T070658
DTSTART;TZID=Europe/Berlin:20260610T091500
DTEND;TZID=Europe/Berlin:20260610T100000
UID:261AS-705-20260610T091500@FABIMÜNSTER EV. FAMILIENBILDUNGSSTÄTTE
SUMMARY:Sanfte Gymnastik für Frauen ab 60 Jahren (261AS-705) 
LOCATION:Beratungs- und BildungsCentrum - Multifunktionsraum, Alter Steinweg 34, 48143 Münster
END:VEVENT
BEGIN:VEVENT
DTSTAMP:20260424T070658
DTSTART;TZID=Europe/Berlin:20260617T091500
DTEND;TZID=Europe/Berlin:20260617T100000
UID:261AS-705-20260617T091500@FABIMÜNSTER EV. FAMILIENBILDUNGSSTÄTTE
SUMMARY:Sanfte Gymnastik für Frauen ab 60 Jahren (261AS-705) 
LOCATION:Beratungs- und BildungsCentrum - Multifunktionsraum, Alter Steinweg 34, 48143 Münster
END:VEVENT
BEGIN:VEVENT
DTSTAMP:20260424T070658
DTSTART;TZID=Europe/Berlin:20260624T091500
DTEND;TZID=Europe/Berlin:20260624T100000
UID:261AS-705-20260624T091500@FABIMÜNSTER EV. FAMILIENBILDUNGSSTÄTTE
SUMMARY:Sanfte Gymnastik für Frauen ab 60 Jahren (261AS-705) 
LOCATION:Beratungs- und BildungsCentrum - Multifunktionsraum, Alter Steinweg 34, 48143 Münster
END:VEVENT
BEGIN:VEVENT
DTSTAMP:20260424T070658
DTSTART;TZID=Europe/Berlin:20260701T091500
DTEND;TZID=Europe/Berlin:20260701T100000
UID:261AS-705-20260701T091500@FABIMÜNSTER EV. FAMILIENBILDUNGSSTÄTTE
SUMMARY:Sanfte Gymnastik für Frauen ab 60 Jahren (261AS-705) 
LOCATION:Beratungs- und BildungsCentrum - Multifunktionsraum, Alter Steinweg 34, 48143 Münster
END:VEVENT
BEGIN:VEVENT
DTSTAMP:20260424T070658
DTSTART;TZID=Europe/Berlin:20260708T091500
DTEND;TZID=Europe/Berlin:20260708T100000
UID:261AS-705-20260708T091500@FABIMÜNSTER EV. FAMILIENBILDUNGSSTÄTTE
SUMMARY:Sanfte Gymnastik für Frauen ab 60 Jahren (261AS-705) 
LOCATION:Beratungs- und BildungsCentrum - Multifunktionsraum, Alter Steinweg 34, 48143 Münster
END:VEVENT
BEGIN:VEVENT
DTSTAMP:20260424T070658
DTSTART;TZID=Europe/Berlin:20260715T091500
DTEND;TZID=Europe/Berlin:20260715T100000
UID:261AS-705-20260715T091500@FABIMÜNSTER EV. FAMILIENBILDUNGSSTÄTTE
SUMMARY:Sanfte Gymnastik für Frauen ab 60 Jahren (261AS-705) 
LOCATION:Beratungs- und BildungsCentrum - Multifunktionsraum, Alter Steinweg 34, 48143 Münster
END:VEVENT
END:VCALENDAR