BEGIN:VCALENDAR
VERSION:2.0
PRODID:https://www.kufer.de/kuferweb / DE
METHOD:PUBLISH
CALSCALE:GREGORIAN
X-WR-TIMEZONE:Europe/Berlin
BEGIN:VTIMEZONE
TZID:Europe/Berlin
X-LIC-LOCATION:Europe/Berlin
BEGIN:DAYLIGHT
TZOFFSETFROM:+0100
TZOFFSETTO:+0200
TZNAME:CEST
DTSTART:19700329T020000
RRULE:FREQ=YEARLY;INTERVAL=1;BYDAY=-1SU;BYMONTH=3
END:DAYLIGHT
BEGIN:STANDARD
TZOFFSETFROM:+0200
TZOFFSETTO:+0100
TZNAME:CET
DTSTART:19701025T030000
RRULE:FREQ=YEARLY;INTERVAL=1;BYDAY=-1SU;BYMONTH=10
END:STANDARD
END:VTIMEZONE
BEGIN:VEVENT
DTSTAMP:20260424T083054
DTSTART;TZID=Europe/Berlin:20260121T101500
DTEND;TZID=Europe/Berlin:20260121T110000
UID:261AS-703-20260121T101500@FABIMÜNSTER EV. FAMILIENBILDUNGSSTÄTTE
SUMMARY:Gesundheitsgymnastik (261AS-703) 
LOCATION:Beratungs- und BildungsCentrum - Multifunktionsraum, Alter Steinweg 34, 48143 Münster
END:VEVENT
BEGIN:VEVENT
DTSTAMP:20260424T083054
DTSTART;TZID=Europe/Berlin:20260128T101500
DTEND;TZID=Europe/Berlin:20260128T110000
UID:261AS-703-20260128T101500@FABIMÜNSTER EV. FAMILIENBILDUNGSSTÄTTE
SUMMARY:Gesundheitsgymnastik (261AS-703) 
LOCATION:Beratungs- und BildungsCentrum - Multifunktionsraum, Alter Steinweg 34, 48143 Münster
END:VEVENT
BEGIN:VEVENT
DTSTAMP:20260424T083054
DTSTART;TZID=Europe/Berlin:20260204T101500
DTEND;TZID=Europe/Berlin:20260204T110000
UID:261AS-703-20260204T101500@FABIMÜNSTER EV. FAMILIENBILDUNGSSTÄTTE
SUMMARY:Gesundheitsgymnastik (261AS-703) 
LOCATION:Beratungs- und BildungsCentrum - Multifunktionsraum, Alter Steinweg 34, 48143 Münster
END:VEVENT
BEGIN:VEVENT
DTSTAMP:20260424T083054
DTSTART;TZID=Europe/Berlin:20260218T101500
DTEND;TZID=Europe/Berlin:20260218T110000
UID:261AS-703-20260218T101500@FABIMÜNSTER EV. FAMILIENBILDUNGSSTÄTTE
SUMMARY:Gesundheitsgymnastik (261AS-703) 
LOCATION:Beratungs- und BildungsCentrum - Multifunktionsraum, Alter Steinweg 34, 48143 Münster
END:VEVENT
BEGIN:VEVENT
DTSTAMP:20260424T083054
DTSTART;TZID=Europe/Berlin:20260225T101500
DTEND;TZID=Europe/Berlin:20260225T110000
UID:261AS-703-20260225T101500@FABIMÜNSTER EV. FAMILIENBILDUNGSSTÄTTE
SUMMARY:Gesundheitsgymnastik (261AS-703) 
LOCATION:Beratungs- und BildungsCentrum - Multifunktionsraum, Alter Steinweg 34, 48143 Münster
END:VEVENT
BEGIN:VEVENT
DTSTAMP:20260424T083054
DTSTART;TZID=Europe/Berlin:20260304T101500
DTEND;TZID=Europe/Berlin:20260304T110000
UID:261AS-703-20260304T101500@FABIMÜNSTER EV. FAMILIENBILDUNGSSTÄTTE
SUMMARY:Gesundheitsgymnastik (261AS-703) 
LOCATION:Beratungs- und BildungsCentrum - Multifunktionsraum, Alter Steinweg 34, 48143 Münster
END:VEVENT
BEGIN:VEVENT
DTSTAMP:20260424T083054
DTSTART;TZID=Europe/Berlin:20260311T101500
DTEND;TZID=Europe/Berlin:20260311T110000
UID:261AS-703-20260311T101500@FABIMÜNSTER EV. FAMILIENBILDUNGSSTÄTTE
SUMMARY:Gesundheitsgymnastik (261AS-703) 
LOCATION:Beratungs- und BildungsCentrum - Multifunktionsraum, Alter Steinweg 34, 48143 Münster
END:VEVENT
BEGIN:VEVENT
DTSTAMP:20260424T083054
DTSTART;TZID=Europe/Berlin:20260318T101500
DTEND;TZID=Europe/Berlin:20260318T110000
UID:261AS-703-20260318T101500@FABIMÜNSTER EV. FAMILIENBILDUNGSSTÄTTE
SUMMARY:Gesundheitsgymnastik (261AS-703) 
LOCATION:Beratungs- und BildungsCentrum - Multifunktionsraum, Alter Steinweg 34, 48143 Münster
END:VEVENT
BEGIN:VEVENT
DTSTAMP:20260424T083054
DTSTART;TZID=Europe/Berlin:20260325T101500
DTEND;TZID=Europe/Berlin:20260325T110000
UID:261AS-703-20260325T101500@FABIMÜNSTER EV. FAMILIENBILDUNGSSTÄTTE
SUMMARY:Gesundheitsgymnastik (261AS-703) 
LOCATION:Beratungs- und BildungsCentrum - Multifunktionsraum, Alter Steinweg 34, 48143 Münster
END:VEVENT
BEGIN:VEVENT
DTSTAMP:20260424T083054
DTSTART;TZID=Europe/Berlin:20260415T101500
DTEND;TZID=Europe/Berlin:20260415T110000
UID:261AS-703-20260415T101500@FABIMÜNSTER EV. FAMILIENBILDUNGSSTÄTTE
SUMMARY:Gesundheitsgymnastik (261AS-703) 
LOCATION:Beratungs- und BildungsCentrum - Multifunktionsraum, Alter Steinweg 34, 48143 Münster
END:VEVENT
BEGIN:VEVENT
DTSTAMP:20260424T083054
DTSTART;TZID=Europe/Berlin:20260422T101500
DTEND;TZID=Europe/Berlin:20260422T110000
UID:261AS-703-20260422T101500@FABIMÜNSTER EV. FAMILIENBILDUNGSSTÄTTE
SUMMARY:Gesundheitsgymnastik (261AS-703) 
LOCATION:Beratungs- und BildungsCentrum - Multifunktionsraum, Alter Steinweg 34, 48143 Münster
END:VEVENT
BEGIN:VEVENT
DTSTAMP:20260424T083054
DTSTART;TZID=Europe/Berlin:20260429T101500
DTEND;TZID=Europe/Berlin:20260429T110000
UID:261AS-703-20260429T101500@FABIMÜNSTER EV. FAMILIENBILDUNGSSTÄTTE
SUMMARY:Gesundheitsgymnastik (261AS-703) 
LOCATION:Beratungs- und BildungsCentrum - Multifunktionsraum, Alter Steinweg 34, 48143 Münster
END:VEVENT
BEGIN:VEVENT
DTSTAMP:20260424T083054
DTSTART;TZID=Europe/Berlin:20260506T101500
DTEND;TZID=Europe/Berlin:20260506T110000
UID:261AS-703-20260506T101500@FABIMÜNSTER EV. FAMILIENBILDUNGSSTÄTTE
SUMMARY:Gesundheitsgymnastik (261AS-703) 
LOCATION:Beratungs- und BildungsCentrum - Multifunktionsraum, Alter Steinweg 34, 48143 Münster
END:VEVENT
BEGIN:VEVENT
DTSTAMP:20260424T083054
DTSTART;TZID=Europe/Berlin:20260520T101500
DTEND;TZID=Europe/Berlin:20260520T110000
UID:261AS-703-20260520T101500@FABIMÜNSTER EV. FAMILIENBILDUNGSSTÄTTE
SUMMARY:Gesundheitsgymnastik (261AS-703) 
LOCATION:Beratungs- und BildungsCentrum - Multifunktionsraum, Alter Steinweg 34, 48143 Münster
END:VEVENT
BEGIN:VEVENT
DTSTAMP:20260424T083054
DTSTART;TZID=Europe/Berlin:20260527T101500
DTEND;TZID=Europe/Berlin:20260527T110000
UID:261AS-703-20260527T101500@FABIMÜNSTER EV. FAMILIENBILDUNGSSTÄTTE
SUMMARY:Gesundheitsgymnastik (261AS-703) 
LOCATION:Beratungs- und BildungsCentrum - Multifunktionsraum, Alter Steinweg 34, 48143 Münster
END:VEVENT
BEGIN:VEVENT
DTSTAMP:20260424T083054
DTSTART;TZID=Europe/Berlin:20260603T101500
DTEND;TZID=Europe/Berlin:20260603T110000
UID:261AS-703-20260603T101500@FABIMÜNSTER EV. FAMILIENBILDUNGSSTÄTTE
SUMMARY:Gesundheitsgymnastik (261AS-703) 
LOCATION:Beratungs- und BildungsCentrum - Multifunktionsraum, Alter Steinweg 34, 48143 Münster
END:VEVENT
BEGIN:VEVENT
DTSTAMP:20260424T083054
DTSTART;TZID=Europe/Berlin:20260610T101500
DTEND;TZID=Europe/Berlin:20260610T110000
UID:261AS-703-20260610T101500@FABIMÜNSTER EV. FAMILIENBILDUNGSSTÄTTE
SUMMARY:Gesundheitsgymnastik (261AS-703) 
LOCATION:Beratungs- und BildungsCentrum - Multifunktionsraum, Alter Steinweg 34, 48143 Münster
END:VEVENT
BEGIN:VEVENT
DTSTAMP:20260424T083054
DTSTART;TZID=Europe/Berlin:20260617T101500
DTEND;TZID=Europe/Berlin:20260617T110000
UID:261AS-703-20260617T101500@FABIMÜNSTER EV. FAMILIENBILDUNGSSTÄTTE
SUMMARY:Gesundheitsgymnastik (261AS-703) 
LOCATION:Beratungs- und BildungsCentrum - Multifunktionsraum, Alter Steinweg 34, 48143 Münster
END:VEVENT
BEGIN:VEVENT
DTSTAMP:20260424T083054
DTSTART;TZID=Europe/Berlin:20260624T101500
DTEND;TZID=Europe/Berlin:20260624T110000
UID:261AS-703-20260624T101500@FABIMÜNSTER EV. FAMILIENBILDUNGSSTÄTTE
SUMMARY:Gesundheitsgymnastik (261AS-703) 
LOCATION:Beratungs- und BildungsCentrum - Multifunktionsraum, Alter Steinweg 34, 48143 Münster
END:VEVENT
BEGIN:VEVENT
DTSTAMP:20260424T083054
DTSTART;TZID=Europe/Berlin:20260701T101500
DTEND;TZID=Europe/Berlin:20260701T110000
UID:261AS-703-20260701T101500@FABIMÜNSTER EV. FAMILIENBILDUNGSSTÄTTE
SUMMARY:Gesundheitsgymnastik (261AS-703) 
LOCATION:Beratungs- und BildungsCentrum - Multifunktionsraum, Alter Steinweg 34, 48143 Münster
END:VEVENT
BEGIN:VEVENT
DTSTAMP:20260424T083054
DTSTART;TZID=Europe/Berlin:20260708T101500
DTEND;TZID=Europe/Berlin:20260708T110000
UID:261AS-703-20260708T101500@FABIMÜNSTER EV. FAMILIENBILDUNGSSTÄTTE
SUMMARY:Gesundheitsgymnastik (261AS-703) 
LOCATION:Beratungs- und BildungsCentrum - Multifunktionsraum, Alter Steinweg 34, 48143 Münster
END:VEVENT
BEGIN:VEVENT
DTSTAMP:20260424T083054
DTSTART;TZID=Europe/Berlin:20260715T101500
DTEND;TZID=Europe/Berlin:20260715T110000
UID:261AS-703-20260715T101500@FABIMÜNSTER EV. FAMILIENBILDUNGSSTÄTTE
SUMMARY:Gesundheitsgymnastik (261AS-703) 
LOCATION:Beratungs- und BildungsCentrum - Multifunktionsraum, Alter Steinweg 34, 48143 Münster
END:VEVENT
END:VCALENDAR