BEGIN:VCALENDAR
VERSION:2.0
PRODID:https://www.kufer.de/kuferweb / DE
METHOD:PUBLISH
CALSCALE:GREGORIAN
X-WR-TIMEZONE:Europe/Berlin
BEGIN:VTIMEZONE
TZID:Europe/Berlin
X-LIC-LOCATION:Europe/Berlin
BEGIN:DAYLIGHT
TZOFFSETFROM:+0100
TZOFFSETTO:+0200
TZNAME:CEST
DTSTART:19700329T020000
RRULE:FREQ=YEARLY;INTERVAL=1;BYDAY=-1SU;BYMONTH=3
END:DAYLIGHT
BEGIN:STANDARD
TZOFFSETFROM:+0200
TZOFFSETTO:+0100
TZNAME:CET
DTSTART:19701025T030000
RRULE:FREQ=YEARLY;INTERVAL=1;BYDAY=-1SU;BYMONTH=10
END:STANDARD
END:VTIMEZONE
BEGIN:VEVENT
DTSTAMP:20260424T070603
DTSTART;TZID=Europe/Berlin:20260108T180000
DTEND;TZID=Europe/Berlin:20260108T190000
UID:261AS-700-20260108T180000@FABIMÜNSTER EV. FAMILIENBILDUNGSSTÄTTE
SUMMARY:Gesundheits-Gymnastik für Frauen und Männer (261AS-700) 
LOCATION:Beratungs- und BildungsCentrum - Multifunktionsraum, Alter Steinweg 34, 48143 Münster
END:VEVENT
BEGIN:VEVENT
DTSTAMP:20260424T070603
DTSTART;TZID=Europe/Berlin:20260115T180000
DTEND;TZID=Europe/Berlin:20260115T190000
UID:261AS-700-20260115T180000@FABIMÜNSTER EV. FAMILIENBILDUNGSSTÄTTE
SUMMARY:Gesundheits-Gymnastik für Frauen und Männer (261AS-700) 
LOCATION:Beratungs- und BildungsCentrum - Multifunktionsraum, Alter Steinweg 34, 48143 Münster
END:VEVENT
BEGIN:VEVENT
DTSTAMP:20260424T070603
DTSTART;TZID=Europe/Berlin:20260122T180000
DTEND;TZID=Europe/Berlin:20260122T190000
UID:261AS-700-20260122T180000@FABIMÜNSTER EV. FAMILIENBILDUNGSSTÄTTE
SUMMARY:Gesundheits-Gymnastik für Frauen und Männer (261AS-700) 
LOCATION:Beratungs- und BildungsCentrum - Multifunktionsraum, Alter Steinweg 34, 48143 Münster
END:VEVENT
BEGIN:VEVENT
DTSTAMP:20260424T070603
DTSTART;TZID=Europe/Berlin:20260129T180000
DTEND;TZID=Europe/Berlin:20260129T190000
UID:261AS-700-20260129T180000@FABIMÜNSTER EV. FAMILIENBILDUNGSSTÄTTE
SUMMARY:Gesundheits-Gymnastik für Frauen und Männer (261AS-700) 
LOCATION:Beratungs- und BildungsCentrum - Multifunktionsraum, Alter Steinweg 34, 48143 Münster
END:VEVENT
BEGIN:VEVENT
DTSTAMP:20260424T070603
DTSTART;TZID=Europe/Berlin:20260212T180000
DTEND;TZID=Europe/Berlin:20260212T190000
UID:261AS-700-20260212T180000@FABIMÜNSTER EV. FAMILIENBILDUNGSSTÄTTE
SUMMARY:Gesundheits-Gymnastik für Frauen und Männer (261AS-700) 
LOCATION:Beratungs- und BildungsCentrum - Multifunktionsraum, Alter Steinweg 34, 48143 Münster
END:VEVENT
BEGIN:VEVENT
DTSTAMP:20260424T070603
DTSTART;TZID=Europe/Berlin:20260219T180000
DTEND;TZID=Europe/Berlin:20260219T190000
UID:261AS-700-20260219T180000@FABIMÜNSTER EV. FAMILIENBILDUNGSSTÄTTE
SUMMARY:Gesundheits-Gymnastik für Frauen und Männer (261AS-700) 
LOCATION:Beratungs- und BildungsCentrum - Multifunktionsraum, Alter Steinweg 34, 48143 Münster
END:VEVENT
BEGIN:VEVENT
DTSTAMP:20260424T070603
DTSTART;TZID=Europe/Berlin:20260226T180000
DTEND;TZID=Europe/Berlin:20260226T190000
UID:261AS-700-20260226T180000@FABIMÜNSTER EV. FAMILIENBILDUNGSSTÄTTE
SUMMARY:Gesundheits-Gymnastik für Frauen und Männer (261AS-700) 
LOCATION:Beratungs- und BildungsCentrum - Multifunktionsraum, Alter Steinweg 34, 48143 Münster
END:VEVENT
BEGIN:VEVENT
DTSTAMP:20260424T070603
DTSTART;TZID=Europe/Berlin:20260305T180000
DTEND;TZID=Europe/Berlin:20260305T190000
UID:261AS-700-20260305T180000@FABIMÜNSTER EV. FAMILIENBILDUNGSSTÄTTE
SUMMARY:Gesundheits-Gymnastik für Frauen und Männer (261AS-700) 
LOCATION:Beratungs- und BildungsCentrum - Multifunktionsraum, Alter Steinweg 34, 48143 Münster
END:VEVENT
BEGIN:VEVENT
DTSTAMP:20260424T070603
DTSTART;TZID=Europe/Berlin:20260312T180000
DTEND;TZID=Europe/Berlin:20260312T190000
UID:261AS-700-20260312T180000@FABIMÜNSTER EV. FAMILIENBILDUNGSSTÄTTE
SUMMARY:Gesundheits-Gymnastik für Frauen und Männer (261AS-700) 
LOCATION:Beratungs- und BildungsCentrum - Multifunktionsraum, Alter Steinweg 34, 48143 Münster
END:VEVENT
BEGIN:VEVENT
DTSTAMP:20260424T070603
DTSTART;TZID=Europe/Berlin:20260319T180000
DTEND;TZID=Europe/Berlin:20260319T190000
UID:261AS-700-20260319T180000@FABIMÜNSTER EV. FAMILIENBILDUNGSSTÄTTE
SUMMARY:Gesundheits-Gymnastik für Frauen und Männer (261AS-700) 
LOCATION:Beratungs- und BildungsCentrum - Multifunktionsraum, Alter Steinweg 34, 48143 Münster
END:VEVENT
BEGIN:VEVENT
DTSTAMP:20260424T070603
DTSTART;TZID=Europe/Berlin:20260326T180000
DTEND;TZID=Europe/Berlin:20260326T190000
UID:261AS-700-20260326T180000@FABIMÜNSTER EV. FAMILIENBILDUNGSSTÄTTE
SUMMARY:Gesundheits-Gymnastik für Frauen und Männer (261AS-700) 
LOCATION:Beratungs- und BildungsCentrum - Multifunktionsraum, Alter Steinweg 34, 48143 Münster
END:VEVENT
BEGIN:VEVENT
DTSTAMP:20260424T070603
DTSTART;TZID=Europe/Berlin:20260416T180000
DTEND;TZID=Europe/Berlin:20260416T190000
UID:261AS-700-20260416T180000@FABIMÜNSTER EV. FAMILIENBILDUNGSSTÄTTE
SUMMARY:Gesundheits-Gymnastik für Frauen und Männer (261AS-700) 
LOCATION:Beratungs- und BildungsCentrum - Multifunktionsraum, Alter Steinweg 34, 48143 Münster
END:VEVENT
BEGIN:VEVENT
DTSTAMP:20260424T070603
DTSTART;TZID=Europe/Berlin:20260423T180000
DTEND;TZID=Europe/Berlin:20260423T190000
UID:261AS-700-20260423T180000@FABIMÜNSTER EV. FAMILIENBILDUNGSSTÄTTE
SUMMARY:Gesundheits-Gymnastik für Frauen und Männer (261AS-700) 
LOCATION:Beratungs- und BildungsCentrum - Multifunktionsraum, Alter Steinweg 34, 48143 Münster
END:VEVENT
BEGIN:VEVENT
DTSTAMP:20260424T070603
DTSTART;TZID=Europe/Berlin:20260507T180000
DTEND;TZID=Europe/Berlin:20260507T190000
UID:261AS-700-20260507T180000@FABIMÜNSTER EV. FAMILIENBILDUNGSSTÄTTE
SUMMARY:Gesundheits-Gymnastik für Frauen und Männer (261AS-700) 
LOCATION:Beratungs- und BildungsCentrum - Multifunktionsraum, Alter Steinweg 34, 48143 Münster
END:VEVENT
BEGIN:VEVENT
DTSTAMP:20260424T070603
DTSTART;TZID=Europe/Berlin:20260521T180000
DTEND;TZID=Europe/Berlin:20260521T190000
UID:261AS-700-20260521T180000@FABIMÜNSTER EV. FAMILIENBILDUNGSSTÄTTE
SUMMARY:Gesundheits-Gymnastik für Frauen und Männer (261AS-700) 
LOCATION:Beratungs- und BildungsCentrum - Multifunktionsraum, Alter Steinweg 34, 48143 Münster
END:VEVENT
BEGIN:VEVENT
DTSTAMP:20260424T070603
DTSTART;TZID=Europe/Berlin:20260528T180000
DTEND;TZID=Europe/Berlin:20260528T190000
UID:261AS-700-20260528T180000@FABIMÜNSTER EV. FAMILIENBILDUNGSSTÄTTE
SUMMARY:Gesundheits-Gymnastik für Frauen und Männer (261AS-700) 
LOCATION:Beratungs- und BildungsCentrum - Multifunktionsraum, Alter Steinweg 34, 48143 Münster
END:VEVENT
BEGIN:VEVENT
DTSTAMP:20260424T070603
DTSTART;TZID=Europe/Berlin:20260611T180000
DTEND;TZID=Europe/Berlin:20260611T190000
UID:261AS-700-20260611T180000@FABIMÜNSTER EV. FAMILIENBILDUNGSSTÄTTE
SUMMARY:Gesundheits-Gymnastik für Frauen und Männer (261AS-700) 
LOCATION:Beratungs- und BildungsCentrum - Multifunktionsraum, Alter Steinweg 34, 48143 Münster
END:VEVENT
BEGIN:VEVENT
DTSTAMP:20260424T070603
DTSTART;TZID=Europe/Berlin:20260618T180000
DTEND;TZID=Europe/Berlin:20260618T190000
UID:261AS-700-20260618T180000@FABIMÜNSTER EV. FAMILIENBILDUNGSSTÄTTE
SUMMARY:Gesundheits-Gymnastik für Frauen und Männer (261AS-700) 
LOCATION:Beratungs- und BildungsCentrum - Multifunktionsraum, Alter Steinweg 34, 48143 Münster
END:VEVENT
BEGIN:VEVENT
DTSTAMP:20260424T070603
DTSTART;TZID=Europe/Berlin:20260625T180000
DTEND;TZID=Europe/Berlin:20260625T190000
UID:261AS-700-20260625T180000@FABIMÜNSTER EV. FAMILIENBILDUNGSSTÄTTE
SUMMARY:Gesundheits-Gymnastik für Frauen und Männer (261AS-700) 
LOCATION:Beratungs- und BildungsCentrum - Multifunktionsraum, Alter Steinweg 34, 48143 Münster
END:VEVENT
BEGIN:VEVENT
DTSTAMP:20260424T070603
DTSTART;TZID=Europe/Berlin:20260702T180000
DTEND;TZID=Europe/Berlin:20260702T190000
UID:261AS-700-20260702T180000@FABIMÜNSTER EV. FAMILIENBILDUNGSSTÄTTE
SUMMARY:Gesundheits-Gymnastik für Frauen und Männer (261AS-700) 
LOCATION:Beratungs- und BildungsCentrum - Multifunktionsraum, Alter Steinweg 34, 48143 Münster
END:VEVENT
BEGIN:VEVENT
DTSTAMP:20260424T070603
DTSTART;TZID=Europe/Berlin:20260709T180000
DTEND;TZID=Europe/Berlin:20260709T190000
UID:261AS-700-20260709T180000@FABIMÜNSTER EV. FAMILIENBILDUNGSSTÄTTE
SUMMARY:Gesundheits-Gymnastik für Frauen und Männer (261AS-700) 
LOCATION:Beratungs- und BildungsCentrum - Multifunktionsraum, Alter Steinweg 34, 48143 Münster
END:VEVENT
BEGIN:VEVENT
DTSTAMP:20260424T070603
DTSTART;TZID=Europe/Berlin:20260716T180000
DTEND;TZID=Europe/Berlin:20260716T190000
UID:261AS-700-20260716T180000@FABIMÜNSTER EV. FAMILIENBILDUNGSSTÄTTE
SUMMARY:Gesundheits-Gymnastik für Frauen und Männer (261AS-700) 
LOCATION:Beratungs- und BildungsCentrum - Multifunktionsraum, Alter Steinweg 34, 48143 Münster
END:VEVENT
END:VCALENDAR